BEGIN:VCALENDAR
VERSION:2.0
PRODID:-//InvisionCommunity Events 5.0.0 Beta 11//EN
METHOD:PUBLISH
CALSCALE:GREGORIAN
REFRESH-INTERVAL:PT15M
X-PUBLISHED-TTL:PT15M
X-WR-CALNAME:All Calendars - Dervisler Grup
NAME:All Calendars - Dervisler Grup
BEGIN:VTIMEZONE
TZID:Europe/London
TZURL:https://tzurl.org/zoneinfo/Europe/London
X-LIC-LOCATION:Europe/London
BEGIN:DAYLIGHT
TZOFFSETFROM:+0000
TZOFFSETTO:+0100
TZNAME:BST
DTSTART:20240331T020000Z
RRULE:FREQ=YEARLY;BYMONTH=3;BYDAY=-1SU
END:DAYLIGHT
BEGIN:STANDARD
TZOFFSETFROM:+0100
TZOFFSETTO:+0000
TZNAME:GMT
DTSTART:20241027T020000Z
RRULE:FREQ=YEARLY;BYMONTH=10;BYDAY=-1SU
END:STANDARD
END:VTIMEZONE
BEGIN:VEVENT
SUMMARY:Honho ho
DTSTAMP:20241127T112709Z
SEQUENCE:0
UID:160-1-510d2c53b88ceb3188dbd338a2d6bbd0@dervislergrup.com
ORGANIZER;CN="admin":noreply@dervislergrup.com
DESCRIPTION:Happy new year every1 🍻🍻🍻
DTSTART;VALUE=DATE:20241127
END:VEVENT
BEGIN:VEVENT
SUMMARY:The Value of Essay Writing Services in Academic Success
DTSTAMP:20240826T090032Z
SEQUENCE:0
UID:92-1-510d2c53b88ceb3188dbd338a2d6bbd0@dervislergrup.com
ORGANIZER;CN="KristinaSpencer55":noreply@dervislergrup.com
DESCRIPTION:\n	In today's competitive academic environment\, essay writi
	ng services play a crucial role in helping students achieve their educatio
	nal goals. These services provide expert guidance\, ensuring that students
	 can navigate the complexities of essay writing with ease. From choosing t
	he right topic to developing a strong thesis statement and supporting argu
	ments\, essay writing services offer invaluable support. They are particul
	arly beneficial for students who may struggle with writing or who face tim
	e constraints due to other academic or personal commitments.\n\n\n\n	One o
	f the key advantages of using an essay writing service is the access to pr
	ofessional writers who are well-versed in various academic disciplines. Th
	ese writers bring a wealth of knowledge and experience\, allowing them to 
	craft essays that are not only well-written but also thoroughly researched
	 and accurately cited. This level of expertise can be especially helpful w
	hen dealing with more complex topics\, such as understanding different lit
	erary forms. For instance\, when asked\, what is the difference between a 
	biography and an autobiography\, students might find it challenging to dif
	ferentiate between the two.\n\n\n\n	A biography is a detailed account of a
	 person's life written by someone else\, often covering key events\, achie
	vements\, and the overall impact the individual had on their field or soci
	ety. In contrast\, an autobiography is a self-written account of the autho
	r’s own life\, offering a personal perspective on their experiences\, th
	oughts\, and feelings. Understanding these distinctions is crucial for stu
	dents\, especially when tasked with writing assignments that require speci
	fic perspectives or narrative styles.\n\n\n\n	For those who need assistanc
	e with such assignments\, the best essay service provides comprehensive su
	pport tailored to individual needs. These services can guide students in c
	hoosing the appropriate narrative style\, ensuring that their writing is c
	oherent\, engaging\, and adheres to academic standards. By offering custom
	ized help\, these services not only enhance the quality of the essays but 
	also improve the student's understanding of the subject matter.\n\n\n\n	Us
	ing the best essay service means that students can submit high-quality wor
	k that reflects their knowledge and understanding of the topic. This not o
	nly helps in securing good grades but also in building confidence in their
	 writing abilities. Furthermore\, it allows students to focus on other are
	as of their studies\, knowing that their writing assignments are in capabl
	e hands.\n\n\n\n	In conclusion\, essay writing services are an essential r
	esource for students seeking to excel in their academic pursuits. By provi
	ding expert guidance and support\, these services help students navigate t
	he complexities of academic writing\, ensuring that they can achieve their
	 educational goals with confidence and ease.\n\n\n\n	\n\n	 \n\n
DTSTART:20240826T000000Z
END:VEVENT
END:VCALENDAR
